BEGIN:VCALENDAR
VERSION:2.0
CALSCALE:GREGORIAN
PRODID:-//Diputació de Barcelona//DibaCMS//EN
BEGIN:VEVENT
UID:8275
DTSTAMP:20260421T001620
DTSTART:20241221T153000
DTEND:20241221T180000
SUMMARY:Portada del Foc de Faia
LOCATION:
METHOD:PUBLISH
X-WR-CALNAME:baga@baga.cat
X-WR-TIMEZONE:Europe/Madrid
DESCRIPTION:
URI:https://www.baga.cat/actualitat/agenda/8275-portada-del-foc-de-faia.html
CLASS:PUBLIC
END:VEVENT
END:VCALENDAR
