BEGIN:VCALENDAR
VERSION:2.0
CALSCALE:GREGORIAN
PRODID:-//Diputació de Barcelona//DibaCMS//EN
BEGIN:VEVENT
UID:8274
DTSTAMP:20260421T025119
DTSTART:20241214T100000
DTEND:20241214T200000
SUMMARY:Mercat de Nadal i activitats
LOCATION:
METHOD:PUBLISH
X-WR-CALNAME:baga@baga.cat
X-WR-TIMEZONE:Europe/Madrid
DESCRIPTION:
URI:https://www.baga.cat/actualitat/agenda/mercat-de-nadal-i-activitats.html
CLASS:PUBLIC
END:VEVENT
END:VCALENDAR
