BEGIN:VCALENDAR
VERSION:2.0
CALSCALE:GREGORIAN
PRODID:-//Diputació de Barcelona//DibaCMS//EN
BEGIN:VEVENT
UID:8270
DTSTAMP:20260420T192152
DTSTART:20250116T110000
DTEND:20250116T110000
SUMMARY:Taller d'estimulació cognitiva i benestar emocional
LOCATION:c/ Historiador Pere Tomic, 1 08695 Bagà
METHOD:PUBLISH
X-WR-CALNAME:baga@baga.cat
X-WR-TIMEZONE:Europe/Madrid
DESCRIPTION:
URI:https://www.baga.cat/actualitat/agenda/taller-destimulacio-cognitiva-i-benestar-emocional.html
CLASS:PUBLIC
END:VEVENT
END:VCALENDAR
