BEGIN:VCALENDAR
VERSION:2.0
CALSCALE:GREGORIAN
PRODID:-//Diputació de Barcelona//DibaCMS//EN
BEGIN:VEVENT
UID:8266
DTSTAMP:20260421T011648
DTSTART:20241214T110000
DTEND:20241214T110000
SUMMARY:Taller - Decoració pals Caga Tió
LOCATION:Plaça Catalunya 
METHOD:PUBLISH
X-WR-CALNAME:baga@baga.cat
X-WR-TIMEZONE:Europe/Madrid
DESCRIPTION:
URI:https://www.baga.cat/actualitat/agenda/taller-decoracio-pals-caga-tio.html
CLASS:PUBLIC
END:VEVENT
END:VCALENDAR
