BEGIN:VCALENDAR
VERSION:2.0
CALSCALE:GREGORIAN
PRODID:-//Diputació de Barcelona//DibaCMS//EN
BEGIN:VEVENT
UID:8263
DTSTAMP:20260420T223046
DTSTART:20241208T110000
DTEND:20241208T110000
SUMMARY:Taller - Construcció de FIA - FAIES
LOCATION:Plaça Galceran de Pinós 08695 Bagà
METHOD:PUBLISH
X-WR-CALNAME:baga@baga.cat
X-WR-TIMEZONE:Europe/Madrid
DESCRIPTION:
URI:https://www.baga.cat/actualitat/agenda/taller-construccio-de-fia-faies.html
CLASS:PUBLIC
END:VEVENT
END:VCALENDAR
