BEGIN:VCALENDAR
VERSION:2.0
CALSCALE:GREGORIAN
PRODID:-//Diputació de Barcelona//DibaCMS//EN
BEGIN:VEVENT
UID:8262
DTSTAMP:20260420T190455
DTSTART:20241205T180000
DTEND:20241205T180000
SUMMARY:Encesa llums de Nadal
LOCATION:Plaça Raval 
METHOD:PUBLISH
X-WR-CALNAME:baga@baga.cat
X-WR-TIMEZONE:Europe/Madrid
DESCRIPTION:
URI:https://www.baga.cat/actualitat/agenda/encesa-llums-de-nadal.html
CLASS:PUBLIC
END:VEVENT
END:VCALENDAR
