BEGIN:VCALENDAR
VERSION:2.0
CALSCALE:GREGORIAN
PRODID:-//Diputació de Barcelona//DibaCMS//EN
BEGIN:VEVENT
UID:8258
DTSTAMP:20260421T011706
DTSTART:20241207T000000
DTEND:20241207T000000
SUMMARY:Mercat d'olis i vins
LOCATION:Plaça Catalunya 
METHOD:PUBLISH
X-WR-CALNAME:baga@baga.cat
X-WR-TIMEZONE:Europe/Madrid
DESCRIPTION:
URI:https://www.baga.cat/actualitat/agenda/mercat-dolis-i-vins.html
CLASS:PUBLIC
END:VEVENT
END:VCALENDAR
