BEGIN:VCALENDAR
VERSION:2.0
CALSCALE:GREGORIAN
PRODID:-//Diputació de Barcelona//DibaCMS//EN
BEGIN:VEVENT
UID:8254
DTSTAMP:20260420T234901
DTSTART:20241231T180000
DTEND:20241231T180000
SUMMARY:IV Cursa Sant Silvestre
LOCATION:Plaça Raval 
METHOD:PUBLISH
X-WR-CALNAME:baga@baga.cat
X-WR-TIMEZONE:Europe/Madrid
DESCRIPTION:
URI:https://www.baga.cat/actualitat/agenda/iv-cursa-sant-silvestre.html
CLASS:PUBLIC
END:VEVENT
END:VCALENDAR
