BEGIN:VCALENDAR
VERSION:2.0
CALSCALE:GREGORIAN
PRODID:-//Diputació de Barcelona//DibaCMS//EN
BEGIN:VEVENT
UID:8248
DTSTAMP:20260420T221716
DTSTART:20241207T110000
DTEND:20241207T123000
SUMMARY:Taller de cuina en família
LOCATION:c/ Historiador Pere Tomic, 1 08695 Bagà
METHOD:PUBLISH
X-WR-CALNAME:baga@baga.cat
X-WR-TIMEZONE:Europe/Madrid
DESCRIPTION:
URI:https://www.baga.cat/actualitat/agenda/8248-taller-de-cuina-en-familia.html
CLASS:PUBLIC
END:VEVENT
END:VCALENDAR
