BEGIN:VCALENDAR
VERSION:2.0
CALSCALE:GREGORIAN
PRODID:-//Diputació de Barcelona//DibaCMS//EN
BEGIN:VEVENT
UID:8245
DTSTAMP:20260420T234830
DTSTART:20241205T100000
DTEND:20241205T100000
SUMMARY:Caminada saludable + Dinar de Nadal
LOCATION:c/ Historiador Pere Tomic, 1 08695 Bagà
METHOD:PUBLISH
X-WR-CALNAME:baga@baga.cat
X-WR-TIMEZONE:Europe/Madrid
DESCRIPTION:
URI:https://www.baga.cat/actualitat/agenda/caminada-saludable--dinar-de-nadal.html
CLASS:PUBLIC
END:VEVENT
END:VCALENDAR
