BEGIN:VCALENDAR
VERSION:2.0
CALSCALE:GREGORIAN
PRODID:-//Diputació de Barcelona//DibaCMS//EN
BEGIN:VEVENT
UID:8244
DTSTAMP:20260420T223435
DTSTART:20241205T150000
DTEND:20241205T170000
SUMMARY:Taller d'embolicar regals
LOCATION:
METHOD:PUBLISH
X-WR-CALNAME:baga@baga.cat
X-WR-TIMEZONE:Europe/Madrid
DESCRIPTION:
URI:https://www.baga.cat/actualitat/agenda/taller-dembolicar-regals.html
CLASS:PUBLIC
END:VEVENT
END:VCALENDAR
