BEGIN:VCALENDAR
VERSION:2.0
CALSCALE:GREGORIAN
PRODID:-//Diputació de Barcelona//DibaCMS//EN
BEGIN:VEVENT
UID:8237
DTSTAMP:20260420T233238
DTSTART:20241115T220000
DTEND:20241115T220000
SUMMARY:Inici grup Bastoners
LOCATION:Plaça Raval, 5 08695 Bagà
METHOD:PUBLISH
X-WR-CALNAME:baga@baga.cat
X-WR-TIMEZONE:Europe/Madrid
DESCRIPTION:
URI:https://www.baga.cat/actualitat/agenda/inici-grup-bastoners.html
CLASS:PUBLIC
END:VEVENT
END:VCALENDAR
