BEGIN:VCALENDAR
VERSION:2.0
CALSCALE:GREGORIAN
PRODID:-//Diputació de Barcelona//DibaCMS//EN
BEGIN:VEVENT
UID:8235
DTSTAMP:20260420T223204
DTSTART:20241123T173000
DTEND:20241123T193000
SUMMARY:La vergonya i la por per als agressors 
LOCATION:Plaça Raval, 5 08695 Bagà
METHOD:PUBLISH
X-WR-CALNAME:baga@baga.cat
X-WR-TIMEZONE:Europe/Madrid
DESCRIPTION:
URI:https://www.baga.cat/actualitat/agenda/la-vergonya-i-la-por-per-als-agressors-.html
CLASS:PUBLIC
END:VEVENT
END:VCALENDAR
