BEGIN:VCALENDAR
VERSION:2.0
CALSCALE:GREGORIAN
PRODID:-//Diputació de Barcelona//DibaCMS//EN
BEGIN:VEVENT
UID:8232
DTSTAMP:20260421T011629
DTSTART:20241115T180000
DTEND:20241115T180000
SUMMARY:Presentació-xerrada llibre ALLÀ TEMPS
LOCATION:Plaça Raval, 5 08695 Bagà
METHOD:PUBLISH
X-WR-CALNAME:baga@baga.cat
X-WR-TIMEZONE:Europe/Madrid
DESCRIPTION:
URI:https://www.baga.cat/actualitat/agenda/presentacio-xerrada-llibre-alla-temps.html
CLASS:PUBLIC
END:VEVENT
END:VCALENDAR
