BEGIN:VCALENDAR
VERSION:2.0
CALSCALE:GREGORIAN
PRODID:-//Diputació de Barcelona//DibaCMS//EN
BEGIN:VEVENT
UID:8211
DTSTAMP:20260421T165852
DTSTART:20241102T000000
DTEND:20241102T000000
SUMMARY:Fira Tots Sants
LOCATION:
METHOD:PUBLISH
X-WR-CALNAME:baga@baga.cat
X-WR-TIMEZONE:Europe/Madrid
DESCRIPTION:
URI:https://www.baga.cat/actualitat/agenda/fira-tots-sants.html
CLASS:PUBLIC
END:VEVENT
END:VCALENDAR
