BEGIN:VCALENDAR
VERSION:2.0
CALSCALE:GREGORIAN
PRODID:-//Diputació de Barcelona//DibaCMS//EN
BEGIN:VEVENT
UID:8210
DTSTAMP:20260420T110503
DTSTART:20241230T110000
DTEND:20241230T180000
SUMMARY:Deixalleria mòbil
LOCATION:Carrer Pintor de Soto 
METHOD:PUBLISH
X-WR-CALNAME:baga@baga.cat
X-WR-TIMEZONE:Europe/Madrid
DESCRIPTION:
URI:https://www.baga.cat/actualitat/agenda/8210-deixalleria-mobil.html
CLASS:PUBLIC
END:VEVENT
END:VCALENDAR
