BEGIN:VCALENDAR
VERSION:2.0
CALSCALE:GREGORIAN
PRODID:-//Diputació de Barcelona//DibaCMS//EN
BEGIN:VEVENT
UID:8207
DTSTAMP:20260420T234727
DTSTART:20241026T180000
DTEND:20241026T180000
SUMMARY:Seminari Escola de Música
LOCATION:Escola de Música 
METHOD:PUBLISH
X-WR-CALNAME:baga@baga.cat
X-WR-TIMEZONE:Europe/Madrid
DESCRIPTION:
URI:https://www.baga.cat/actualitat/agenda/seminari-escola-de-musica.html
CLASS:PUBLIC
END:VEVENT
END:VCALENDAR
