BEGIN:VCALENDAR
VERSION:2.0
CALSCALE:GREGORIAN
PRODID:-//Diputació de Barcelona//DibaCMS//EN
BEGIN:VEVENT
UID:8206
DTSTAMP:20260420T144012
DTSTART:20241102T173000
DTEND:20241102T173000
SUMMARY:Cinema - AFA Escola
LOCATION:Plaça Raval, 5 08695 Bagà
METHOD:PUBLISH
X-WR-CALNAME:baga@baga.cat
X-WR-TIMEZONE:Europe/Madrid
DESCRIPTION:
URI:https://www.baga.cat/actualitat/agenda/cinema-afa-escola.html
CLASS:PUBLIC
END:VEVENT
END:VCALENDAR
