BEGIN:VCALENDAR
VERSION:2.0
CALSCALE:GREGORIAN
PRODID:-//Diputació de Barcelona//DibaCMS//EN
BEGIN:VEVENT
UID:8198
DTSTAMP:20260421T011510
DTSTART:20241020T110000
DTEND:20241020T110000
SUMMARY:I Festival de Microteatre al nucli antic
LOCATION:Plaça Galceran de Pinós 08695 Bagà
METHOD:PUBLISH
X-WR-CALNAME:baga@baga.cat
X-WR-TIMEZONE:Europe/Madrid
DESCRIPTION:
URI:https://www.baga.cat/actualitat/agenda/i-festival-de-microteatre-al-nucli-antic.html
CLASS:PUBLIC
END:VEVENT
END:VCALENDAR
