BEGIN:VCALENDAR
VERSION:2.0
CALSCALE:GREGORIAN
PRODID:-//Diputació de Barcelona//DibaCMS//EN
BEGIN:VEVENT
UID:8196
DTSTAMP:20260421T024747
DTSTART:20241014T213000
DTEND:20241014T213000
SUMMARY:Reunió informativa - Estàtua de la Fia Faia
LOCATION:Ajuntament de Bagà 
METHOD:PUBLISH
X-WR-CALNAME:baga@baga.cat
X-WR-TIMEZONE:Europe/Madrid
DESCRIPTION:
URI:https://www.baga.cat/actualitat/agenda/reunio-informativa-estatua-de-la-fia-faia.html
CLASS:PUBLIC
END:VEVENT
END:VCALENDAR
