BEGIN:VCALENDAR
VERSION:2.0
CALSCALE:GREGORIAN
PRODID:-//Diputació de Barcelona//DibaCMS//EN
BEGIN:VEVENT
UID:8194
DTSTAMP:20260421T042534
DTSTART:20241013T093000
DTEND:20241013T093000
SUMMARY:Aplec de Santa Fe de Quer
LOCATION:
METHOD:PUBLISH
X-WR-CALNAME:baga@baga.cat
X-WR-TIMEZONE:Europe/Madrid
DESCRIPTION:
URI:https://www.baga.cat/actualitat/agenda/aplec-de-santa-fe-de-quer.html
CLASS:PUBLIC
END:VEVENT
END:VCALENDAR
