BEGIN:VCALENDAR
VERSION:2.0
CALSCALE:GREGORIAN
PRODID:-//Diputació de Barcelona//DibaCMS//EN
BEGIN:VEVENT
UID:8193
DTSTAMP:20260420T114329
DTSTART:20241018T180000
DTEND:20241018T180000
SUMMARY:Activitats i esdeveniments de sensibilització i educació ambiental - SUSPÈS
LOCATION:Plaça Raval, 5 08695 Bagà
METHOD:PUBLISH
X-WR-CALNAME:baga@baga.cat
X-WR-TIMEZONE:Europe/Madrid
DESCRIPTION:
URI:https://www.baga.cat/actualitat/agenda/activitats-i-esdeveniments-de-sensibilitzacio-i-educacio-ambiental-suspes.html
CLASS:PUBLIC
END:VEVENT
END:VCALENDAR
