BEGIN:VCALENDAR
VERSION:2.0
CALSCALE:GREGORIAN
PRODID:-//Diputació de Barcelona//DibaCMS//EN
BEGIN:VEVENT
UID:8191
DTSTAMP:20260421T024645
DTSTART:20241008T000000
DTEND:20241008T000000
SUMMARY:Projecció LUZ DE TODOS
LOCATION:C. de la Vinya, 1 08695 Bagà
METHOD:PUBLISH
X-WR-CALNAME:baga@baga.cat
X-WR-TIMEZONE:Europe/Madrid
DESCRIPTION:
URI:https://www.baga.cat/actualitat/agenda/projeccio-luz-de-todos.html
CLASS:PUBLIC
END:VEVENT
END:VCALENDAR
