BEGIN:VCALENDAR
VERSION:2.0
CALSCALE:GREGORIAN
PRODID:-//Diputació de Barcelona//DibaCMS//EN
BEGIN:VEVENT
UID:8183
DTSTAMP:20260420T101759
DTSTART:20241014T103000
DTEND:20241014T103000
SUMMARY:Els Grans Encants Berguedà
LOCATION:c/ Historiador Pere Tomic, 1 08695 Bagà
METHOD:PUBLISH
X-WR-CALNAME:baga@baga.cat
X-WR-TIMEZONE:Europe/Madrid
DESCRIPTION:
URI:https://www.baga.cat/actualitat/agenda/els-grans-encants-bergueda.html
CLASS:PUBLIC
END:VEVENT
END:VCALENDAR
