BEGIN:VCALENDAR
VERSION:2.0
CALSCALE:GREGORIAN
PRODID:-//Diputació de Barcelona//DibaCMS//EN
BEGIN:VEVENT
UID:8175
DTSTAMP:20260421T060416
DTSTART:20241013T120000
DTEND:20241013T120000
SUMMARY:Visita al Palau de Pinós
LOCATION:Pujada a Palau, 7 08695 Bagà
METHOD:PUBLISH
X-WR-CALNAME:baga@baga.cat
X-WR-TIMEZONE:Europe/Madrid
DESCRIPTION:
URI:https://www.baga.cat/actualitat/agenda/8175-visita-al-palau-de-pinos.html
CLASS:PUBLIC
END:VEVENT
END:VCALENDAR
