BEGIN:VCALENDAR
VERSION:2.0
CALSCALE:GREGORIAN
PRODID:-//Diputació de Barcelona//DibaCMS//EN
BEGIN:VEVENT
UID:8174
DTSTAMP:20260421T025350
DTSTART:20241012T170000
DTEND:20241012T170000
SUMMARY:Visita al Palau de Pinós
LOCATION:Pujada a Palau, 7 08695 Bagà
METHOD:PUBLISH
X-WR-CALNAME:baga@baga.cat
X-WR-TIMEZONE:Europe/Madrid
DESCRIPTION:
URI:https://www.baga.cat/actualitat/agenda/8174-visita-al-palau-de-pinos.html
CLASS:PUBLIC
END:VEVENT
END:VCALENDAR
