BEGIN:VCALENDAR
VERSION:2.0
CALSCALE:GREGORIAN
PRODID:-//Diputació de Barcelona//DibaCMS//EN
BEGIN:VEVENT
UID:8173
DTSTAMP:20260421T122950
DTSTART:20241013T130000
DTEND:20241013T130000
SUMMARY:Visita al nucli antic de Bagà
LOCATION:Punt de trobada: Palau de Pinós 
METHOD:PUBLISH
X-WR-CALNAME:baga@baga.cat
X-WR-TIMEZONE:Europe/Madrid
DESCRIPTION:
URI:https://www.baga.cat/actualitat/agenda/8173-visita-al-nucli-antic-de-baga.html
CLASS:PUBLIC
END:VEVENT
END:VCALENDAR
