BEGIN:VCALENDAR
VERSION:2.0
CALSCALE:GREGORIAN
PRODID:-//Diputació de Barcelona//DibaCMS//EN
BEGIN:VEVENT
UID:8170
DTSTAMP:20260421T012023
DTSTART:20241012T170000
DTEND:20241012T170000
SUMMARY:Visita al Centre Medieval i dels Càtars
LOCATION:Punt de trobada: Palau de Pinós 
METHOD:PUBLISH
X-WR-CALNAME:baga@baga.cat
X-WR-TIMEZONE:Europe/Madrid
DESCRIPTION:
URI:https://www.baga.cat/actualitat/agenda/visita-al-centre-medieval-i-dels-catars.html
CLASS:PUBLIC
END:VEVENT
END:VCALENDAR
