BEGIN:VCALENDAR
VERSION:2.0
CALSCALE:GREGORIAN
PRODID:-//Diputació de Barcelona//DibaCMS//EN
BEGIN:VEVENT
UID:8168
DTSTAMP:20260421T092059
DTSTART:20240928T190000
DTEND:20240928T190000
SUMMARY:Pas de Panique - Teatre
LOCATION:Plaça Raval, 5 08695 Bagà
METHOD:PUBLISH
X-WR-CALNAME:baga@baga.cat
X-WR-TIMEZONE:Europe/Madrid
DESCRIPTION:
URI:https://www.baga.cat/actualitat/agenda/pas-de-panique-teatre.html
CLASS:PUBLIC
END:VEVENT
END:VCALENDAR
