BEGIN:VCALENDAR
VERSION:2.0
CALSCALE:GREGORIAN
PRODID:-//Diputació de Barcelona//DibaCMS//EN
BEGIN:VEVENT
UID:8158
DTSTAMP:20260421T025539
DTSTART:20241019T090000
DTEND:20241019T130000
SUMMARY:Obertura OAC - Dissabte
LOCATION:
METHOD:PUBLISH
X-WR-CALNAME:baga@baga.cat
X-WR-TIMEZONE:Europe/Madrid
DESCRIPTION:
URI:https://www.baga.cat/actualitat/agenda/obertura-oac-dissabte.html
CLASS:PUBLIC
END:VEVENT
END:VCALENDAR
