BEGIN:VCALENDAR
VERSION:2.0
CALSCALE:GREGORIAN
PRODID:-//Diputació de Barcelona//DibaCMS//EN
BEGIN:VEVENT
UID:8156
DTSTAMP:20260421T025625
DTSTART:20240917T000000
DTEND:20240921T000000
SUMMARY:CAMINADA ELS BÚNQUERS DE COLL DE PAL
LOCATION:
METHOD:PUBLISH
X-WR-CALNAME:baga@baga.cat
X-WR-TIMEZONE:Europe/Madrid
DESCRIPTION:
URI:https://www.baga.cat/actualitat/agenda/caminada-els-bunquers-de-coll-de-pal.html
CLASS:PUBLIC
END:VEVENT
END:VCALENDAR
