BEGIN:VCALENDAR
VERSION:2.0
CALSCALE:GREGORIAN
PRODID:-//Diputació de Barcelona//DibaCMS//EN
BEGIN:VEVENT
UID:8155
DTSTAMP:20260421T043834
DTSTART:20240928T190000
DTEND:20240928T190000
SUMMARY:Gran festa del PÀDEL 
LOCATION:Passeig de Gibellàs, 1 08695 Bagà
METHOD:PUBLISH
X-WR-CALNAME:baga@baga.cat
X-WR-TIMEZONE:Europe/Madrid
DESCRIPTION:
URI:https://www.baga.cat/actualitat/agenda/gran-festa-del-padel-.html
CLASS:PUBLIC
END:VEVENT
END:VCALENDAR
