BEGIN:VCALENDAR
VERSION:2.0
CALSCALE:GREGORIAN
PRODID:-//Diputació de Barcelona//DibaCMS//EN
BEGIN:VEVENT
UID:8151
DTSTAMP:20260421T184607
DTSTART:20240909T000000
DTEND:20240911T230000
SUMMARY:ACTES DIADA NACIONAL DE CATALUNYA 
LOCATION:
METHOD:PUBLISH
X-WR-CALNAME:baga@baga.cat
X-WR-TIMEZONE:Europe/Madrid
DESCRIPTION:
URI:https://www.baga.cat/actualitat/agenda/actes-diada-nacional-de-catalunya-.html
CLASS:PUBLIC
END:VEVENT
END:VCALENDAR
