BEGIN:VCALENDAR
VERSION:2.0
CALSCALE:GREGORIAN
PRODID:-//Diputació de Barcelona//DibaCMS//EN
BEGIN:VEVENT
UID:8150
DTSTAMP:20260423T102110
DTSTART:20240909T000000
DTEND:20240913T000000
SUMMARY:CAMINADA SALUDABLE I SOSTENIBLE
LOCATION:Pere Tomic, 1 08695 Bagà
METHOD:PUBLISH
X-WR-CALNAME:baga@baga.cat
X-WR-TIMEZONE:Europe/Madrid
DESCRIPTION:
URI:https://www.baga.cat/actualitat/agenda/8150-caminada-saludable-i-sostenible.html
CLASS:PUBLIC
END:VEVENT
END:VCALENDAR
