BEGIN:VCALENDAR
VERSION:2.0
CALSCALE:GREGORIAN
PRODID:-//Diputació de Barcelona//DibaCMS//EN
BEGIN:VEVENT
UID:8148
DTSTAMP:20260421T024936
DTSTART:20240905T000000
DTEND:20240908T120000
SUMMARY:Ruta del rescat
LOCATION:Plaça Porxada 
METHOD:PUBLISH
X-WR-CALNAME:baga@baga.cat
X-WR-TIMEZONE:Europe/Madrid
DESCRIPTION:
URI:https://www.baga.cat/actualitat/agenda/ruta-del-rescat.html
CLASS:PUBLIC
END:VEVENT
END:VCALENDAR
