BEGIN:VCALENDAR
VERSION:2.0
CALSCALE:GREGORIAN
PRODID:-//Diputació de Barcelona//DibaCMS//EN
BEGIN:VEVENT
UID:8147
DTSTAMP:20260421T091101
DTSTART:20240907T203000
DTEND:20240907T203000
SUMMARY:Sopar popular a Terradelles
LOCATION:Carrer Galceran de Pinós (Terradelles) 
METHOD:PUBLISH
X-WR-CALNAME:baga@baga.cat
X-WR-TIMEZONE:Europe/Madrid
DESCRIPTION:
URI:https://www.baga.cat/actualitat/agenda/sopar-popular-a-terradelles.html
CLASS:PUBLIC
END:VEVENT
END:VCALENDAR
