BEGIN:VCALENDAR
VERSION:2.0
CALSCALE:GREGORIAN
PRODID:-//Diputació de Barcelona//DibaCMS//EN
BEGIN:VEVENT
UID:8146
DTSTAMP:20260421T153055
DTSTART:20240908T110000
DTEND:20240908T180000
SUMMARY:Aplec de Paller
LOCATION:Santuari de Paller 
METHOD:PUBLISH
X-WR-CALNAME:baga@baga.cat
X-WR-TIMEZONE:Europe/Madrid
DESCRIPTION:
URI:https://www.baga.cat/actualitat/agenda/aplec-de-paller.html
CLASS:PUBLIC
END:VEVENT
END:VCALENDAR
