BEGIN:VCALENDAR
VERSION:2.0
CALSCALE:GREGORIAN
PRODID:-//Diputació de Barcelona//DibaCMS//EN
BEGIN:VEVENT
UID:8130
DTSTAMP:20260421T012054
DTSTART:20240829T110000
DTEND:20240829T180000
SUMMARY:Deixalleria mòbil
LOCATION:C/ Pintor de Soto 
METHOD:PUBLISH
X-WR-CALNAME:baga@baga.cat
X-WR-TIMEZONE:Europe/Madrid
DESCRIPTION:
URI:https://www.baga.cat/actualitat/agenda/8130-deixalleria-mobil.html
CLASS:PUBLIC
END:VEVENT
END:VCALENDAR
