BEGIN:VCALENDAR
VERSION:2.0
CALSCALE:GREGORIAN
PRODID:-//Diputació de Barcelona//DibaCMS//EN
BEGIN:VEVENT
UID:8128
DTSTAMP:20260421T104915
DTSTART:20240802T180000
DTEND:20240802T180000
SUMMARY:Taller TOTE BAGS
LOCATION:Plaça Galceran de Pinós 08695 Bagà
METHOD:PUBLISH
X-WR-CALNAME:baga@baga.cat
X-WR-TIMEZONE:Europe/Madrid
DESCRIPTION:
URI:https://www.baga.cat/actualitat/agenda/taller-tote-bags.html
CLASS:PUBLIC
END:VEVENT
END:VCALENDAR
