BEGIN:VCALENDAR
VERSION:2.0
CALSCALE:GREGORIAN
PRODID:-//Diputació de Barcelona//DibaCMS//EN
BEGIN:VEVENT
UID:8120
DTSTAMP:20260421T105320
DTSTART:20240801T110000
DTEND:20240801T110000
SUMMARY:Biodansa
LOCATION:Parc de la Vila 
METHOD:PUBLISH
X-WR-CALNAME:baga@baga.cat
X-WR-TIMEZONE:Europe/Madrid
DESCRIPTION:
URI:https://www.baga.cat/actualitat/agenda/biodansa.html
CLASS:PUBLIC
END:VEVENT
END:VCALENDAR
