BEGIN:VCALENDAR
VERSION:2.0
CALSCALE:GREGORIAN
PRODID:-//Diputació de Barcelona//DibaCMS//EN
BEGIN:VEVENT
UID:8117
DTSTAMP:20260421T105024
DTSTART:20240729T213000
DTEND:20240729T213000
SUMMARY:Sopar-Ball
LOCATION:Passeig de Gibellàs, 1 08695 Bagà
METHOD:PUBLISH
X-WR-CALNAME:baga@baga.cat
X-WR-TIMEZONE:Europe/Madrid
DESCRIPTION:
URI:https://www.baga.cat/actualitat/agenda/sopar-ball.html
CLASS:PUBLIC
END:VEVENT
END:VCALENDAR
