BEGIN:VCALENDAR
VERSION:2.0
CALSCALE:GREGORIAN
PRODID:-//Diputació de Barcelona//DibaCMS//EN
BEGIN:VEVENT
UID:8116
DTSTAMP:20260421T123023
DTSTART:20240730T220000
DTEND:20240730T220000
SUMMARY:Caminada Popular nocturna
LOCATION:Plaça Porxada 
METHOD:PUBLISH
X-WR-CALNAME:baga@baga.cat
X-WR-TIMEZONE:Europe/Madrid
DESCRIPTION:
URI:https://www.baga.cat/actualitat/agenda/caminada-popular-nocturna.html
CLASS:PUBLIC
END:VEVENT
END:VCALENDAR
