BEGIN:VCALENDAR
VERSION:2.0
CALSCALE:GREGORIAN
PRODID:-//Diputació de Barcelona//DibaCMS//EN
BEGIN:VEVENT
UID:8114
DTSTAMP:20260421T105100
DTSTART:20240731T090000
DTEND:20240731T090000
SUMMARY:Pilates
LOCATION:Passeig Bastareny, s/n 08695 Bagà
METHOD:PUBLISH
X-WR-CALNAME:baga@baga.cat
X-WR-TIMEZONE:Europe/Madrid
DESCRIPTION:
URI:https://www.baga.cat/actualitat/agenda/pilates.html
CLASS:PUBLIC
END:VEVENT
END:VCALENDAR
