BEGIN:VCALENDAR
VERSION:2.0
CALSCALE:GREGORIAN
PRODID:-//Diputació de Barcelona//DibaCMS//EN
BEGIN:VEVENT
UID:8110
DTSTAMP:20260421T123156
DTSTART:20240803T150000
DTEND:20240803T150000
SUMMARY:Torneig Popular de Magic
LOCATION:08695 Bagà
METHOD:PUBLISH
X-WR-CALNAME:baga@baga.cat
X-WR-TIMEZONE:Europe/Madrid
DESCRIPTION:
URI:https://www.baga.cat/actualitat/agenda/torneig-popular-de-magic.html
CLASS:PUBLIC
END:VEVENT
END:VCALENDAR
