BEGIN:VCALENDAR
VERSION:2.0
CALSCALE:GREGORIAN
PRODID:-//Diputació de Barcelona//DibaCMS//EN
BEGIN:VEVENT
UID:8107
DTSTAMP:20260421T025703
DTSTART:20240726T183000
DTEND:20240726T183000
SUMMARY:Taller licor artesanal
LOCATION:Oficina de turisme C/Raval nº18 
METHOD:PUBLISH
X-WR-CALNAME:baga@baga.cat
X-WR-TIMEZONE:Europe/Madrid
DESCRIPTION:
URI:https://www.baga.cat/actualitat/agenda/taller-licor-artesanal.html
CLASS:PUBLIC
END:VEVENT
END:VCALENDAR
