BEGIN:VCALENDAR
VERSION:2.0
CALSCALE:GREGORIAN
PRODID:-//Diputació de Barcelona//DibaCMS//EN
BEGIN:VEVENT
UID:8106
DTSTAMP:20260421T123224
DTSTART:20240809T230000
DTEND:20240809T230000
SUMMARY:Mercat Gourmand
LOCATION:Plaça Catalunya 
METHOD:PUBLISH
X-WR-CALNAME:baga@baga.cat
X-WR-TIMEZONE:Europe/Madrid
DESCRIPTION:
URI:https://www.baga.cat/actualitat/agenda/8106-mercat-gourmand.html
CLASS:PUBLIC
END:VEVENT
END:VCALENDAR
