BEGIN:VCALENDAR
VERSION:2.0
CALSCALE:GREGORIAN
PRODID:-//Diputació de Barcelona//DibaCMS//EN
BEGIN:VEVENT
UID:8104
DTSTAMP:20260421T093521
DTSTART:20240801T203000
DTEND:20240801T223000
SUMMARY:Show "Quin fart de menjar"
LOCATION:Plaça Raval, 5 08695 Bagà
METHOD:PUBLISH
X-WR-CALNAME:baga@baga.cat
X-WR-TIMEZONE:Europe/Madrid
DESCRIPTION:
URI:https://www.baga.cat/actualitat/agenda/show-quin-fart-de-menjar.html
CLASS:PUBLIC
END:VEVENT
END:VCALENDAR
