BEGIN:VCALENDAR
VERSION:2.0
CALSCALE:GREGORIAN
PRODID:-//Diputació de Barcelona//DibaCMS//EN
BEGIN:VEVENT
UID:8103
DTSTAMP:20260421T140753
DTSTART:20240728T220000
DTEND:20240728T220000
SUMMARY:Cinema al carrer "Encanto"
LOCATION:Plaça Galceran de Pinós 08695 Bagà
METHOD:PUBLISH
X-WR-CALNAME:baga@baga.cat
X-WR-TIMEZONE:Europe/Madrid
DESCRIPTION:
URI:https://www.baga.cat/actualitat/agenda/cinema-al-carrer-encanto.html
CLASS:PUBLIC
END:VEVENT
END:VCALENDAR
