BEGIN:VCALENDAR
VERSION:2.0
CALSCALE:GREGORIAN
PRODID:-//Diputació de Barcelona//DibaCMS//EN
BEGIN:VEVENT
UID:8097
DTSTAMP:20260420T132237
DTSTART:20240727T100000
DTEND:20240728T020000
SUMMARY:16h Futbol Sala
LOCATION:Passeig Bastareny, s/n 08695 Bagà
METHOD:PUBLISH
X-WR-CALNAME:baga@baga.cat
X-WR-TIMEZONE:Europe/Madrid
DESCRIPTION:
URI:https://www.baga.cat/actualitat/agenda/16h-futbol-sala.html
CLASS:PUBLIC
END:VEVENT
END:VCALENDAR
