BEGIN:VCALENDAR
VERSION:2.0
CALSCALE:GREGORIAN
PRODID:-//Diputació de Barcelona//DibaCMS//EN
BEGIN:VEVENT
UID:8096
DTSTAMP:20260421T152428
DTSTART:20240714T110000
DTEND:20240714T233000
SUMMARY:2n Festival Musico-Cultural Alt Berguedà
LOCATION:
METHOD:PUBLISH
X-WR-CALNAME:baga@baga.cat
X-WR-TIMEZONE:Europe/Madrid
DESCRIPTION:
URI:https://www.baga.cat/actualitat/agenda/8096-2n-festival-musico-cultural-alt-bergueda.html
CLASS:PUBLIC
END:VEVENT
END:VCALENDAR
